Package: MSPrep Version: 1.10.0 Command: /Library/Frameworks/R.framework/Resources/bin/R CMD check --install=check:MSPrep.install-out.txt --library=/Library/Frameworks/R.framework/Resources/library --no-vignettes --timings MSPrep_1.10.0.tar.gz StartedAt: 2023-10-16 04:21:25 -0400 (Mon, 16 Oct 2023) EndedAt: 2023-10-16 04:42:19 -0400 (Mon, 16 Oct 2023) EllapsedTime: 1253.3 seconds RetCode: 0 Status: OK CheckDir: MSPrep.Rcheck Warnings: 0