Package: MSPrep Version: 1.10.0 Command: rm -rf MSPrep.buildbin-libdir && mkdir MSPrep.buildbin-libdir && /Users/biocbuild/BBS/utils/build-universal.sh MSPrep_1.10.0.tar.gz /Library/Frameworks/R.framework/Resources/bin/R MSPrep.buildbin-libdir StartedAt: 2023-10-16 09:47:17 -0400 (Mon, 16 Oct 2023) EndedAt: 2023-10-16 09:49:02 -0400 (Mon, 16 Oct 2023) EllapsedTime: 104.8 seconds RetCode: 0 Status: OK PackageFile: MSPrep_1.10.0.tgz PackageFileSize: 1.636 MiB