Package: MSA2dist Version: 1.4.0 Command: F:\biocbuild\bbs-3.17-bioc\R\bin\R.exe CMD check --no-multiarch --install=check:MSA2dist.install-out.txt --library=F:\biocbuild\bbs-3.17-bioc\R\library --no-vignettes --timings MSA2dist_1.4.0.tar.gz StartedAt: 2023-10-16 04:23:54 -0400 (Mon, 16 Oct 2023) EndedAt: 2023-10-16 04:29:09 -0400 (Mon, 16 Oct 2023) EllapsedTime: 315.3 seconds RetCode: 0 Status: OK CheckDir: MSA2dist.Rcheck Warnings: 0