Package: MSA2dist Version: 1.4.0 Command: rm -rf MSA2dist.buildbin-libdir && mkdir MSA2dist.buildbin-libdir && F:\biocbuild\bbs-3.17-bioc\R\bin\R.exe CMD INSTALL --build --library=MSA2dist.buildbin-libdir MSA2dist_1.4.0.tar.gz StartedAt: 2023-10-16 09:07:36 -0400 (Mon, 16 Oct 2023) EndedAt: 2023-10-16 09:09:29 -0400 (Mon, 16 Oct 2023) EllapsedTime: 113.1 seconds RetCode: 0 Status: OK PackageFile: MSA2dist_1.4.0.zip PackageFileSize: 1.224 MiB