Package: MSA2dist Version: 1.4.0 Command: /Library/Frameworks/R.framework/Resources/bin/R CMD check --install=check:MSA2dist.install-out.txt --library=/Library/Frameworks/R.framework/Resources/library --no-vignettes --timings MSA2dist_1.4.0.tar.gz StartedAt: 2023-10-16 04:15:48 -0400 (Mon, 16 Oct 2023) EndedAt: 2023-10-16 04:24:01 -0400 (Mon, 16 Oct 2023) EllapsedTime: 492.5 seconds RetCode: 0 Status: OK CheckDir: MSA2dist.Rcheck Warnings: 0