Package: MSA2dist Version: 1.4.0 Command: /Library/Frameworks/R.framework/Resources/bin/R CMD build --keep-empty-dirs --no-resave-data MSA2dist StartedAt: 2023-10-15 19:40:48 -0400 (Sun, 15 Oct 2023) EndedAt: 2023-10-15 19:45:39 -0400 (Sun, 15 Oct 2023) EllapsedTime: 291.3 seconds RetCode: 0 Status: OK PackageFile: MSA2dist_1.4.0.tar.gz PackageFileSize: 856.4 KiB