Package: MSA2dist Version: 1.4.0 Command: rm -rf MSA2dist.buildbin-libdir && mkdir MSA2dist.buildbin-libdir && /Users/biocbuild/BBS/utils/build-universal.sh MSA2dist_1.4.0.tar.gz /Library/Frameworks/R.framework/Resources/bin/R MSA2dist.buildbin-libdir StartedAt: 2023-10-16 09:46:36 -0400 (Mon, 16 Oct 2023) EndedAt: 2023-10-16 09:51:21 -0400 (Mon, 16 Oct 2023) EllapsedTime: 284.8 seconds RetCode: 0 Status: OK PackageFile: MSA2dist_1.4.0.tgz PackageFileSize: 1.094 MiB