Package: MPFE Version: 1.36.0 Command: chmod a+r MPFE -R && F:\biocbuild\bbs-3.17-bioc\R\bin\R.exe CMD build --keep-empty-dirs --no-resave-data MPFE StartedAt: 2023-10-15 20:37:29 -0400 (Sun, 15 Oct 2023) EndedAt: 2023-10-15 20:37:36 -0400 (Sun, 15 Oct 2023) EllapsedTime: 7.0 seconds RetCode: 0 Status: OK PackageFile: MPFE_1.36.0.tar.gz PackageFileSize: 103.5 KiB