Package: MPFE Version: 1.36.0 Command: rm -rf MPFE.buildbin-libdir && mkdir MPFE.buildbin-libdir && F:\biocbuild\bbs-3.17-bioc\R\bin\R.exe CMD INSTALL --build --library=MPFE.buildbin-libdir MPFE_1.36.0.tar.gz StartedAt: 2023-10-16 09:07:25 -0400 (Mon, 16 Oct 2023) EndedAt: 2023-10-16 09:07:29 -0400 (Mon, 16 Oct 2023) EllapsedTime: 3.7 seconds RetCode: 0 Status: OK PackageFile: MPFE_1.36.0.zip PackageFileSize: 132 KiB