Package: MPFE Version: 1.36.0 Command: /Library/Frameworks/R.framework/Resources/bin/R CMD check --install=check:MPFE.install-out.txt --library=/Library/Frameworks/R.framework/Resources/library --no-vignettes --timings MPFE_1.36.0.tar.gz StartedAt: 2023-10-16 04:14:13 -0400 (Mon, 16 Oct 2023) EndedAt: 2023-10-16 04:14:59 -0400 (Mon, 16 Oct 2023) EllapsedTime: 46.0 seconds RetCode: 0 Status: OK CheckDir: MPFE.Rcheck Warnings: 0