Package: MOMA Version: 1.12.0 Command: F:\biocbuild\bbs-3.17-bioc\R\bin\R.exe CMD INSTALL MOMA StartedAt: 2023-10-15 16:17:56 -0400 (Sun, 15 Oct 2023) EndedAt: 2023-10-15 16:18:39 -0400 (Sun, 15 Oct 2023) EllapsedTime: 42.9 seconds RetCode: 0 Status: OK