Package: MOMA Version: 1.12.0 Command: rm -rf MOMA.buildbin-libdir && mkdir MOMA.buildbin-libdir && F:\biocbuild\bbs-3.17-bioc\R\bin\R.exe CMD INSTALL --build --library=MOMA.buildbin-libdir MOMA_1.12.0.tar.gz StartedAt: 2023-10-16 09:06:49 -0400 (Mon, 16 Oct 2023) EndedAt: 2023-10-16 09:07:34 -0400 (Mon, 16 Oct 2023) EllapsedTime: 44.4 seconds RetCode: 0 Status: OK PackageFile: MOMA_1.12.0.zip PackageFileSize: 5.305 MiB