Package: MOMA Version: 1.12.0 Command: /Library/Frameworks/R.framework/Resources/bin/R CMD check --install=check:MOMA.install-out.txt --library=/Library/Frameworks/R.framework/Resources/library --no-vignettes --timings MOMA_1.12.0.tar.gz StartedAt: 2023-10-16 04:09:41 -0400 (Mon, 16 Oct 2023) EndedAt: 2023-10-16 04:18:04 -0400 (Mon, 16 Oct 2023) EllapsedTime: 503.6 seconds RetCode: 0 Status: OK CheckDir: MOMA.Rcheck Warnings: 0