Package: MOFA2 Version: 1.10.0 Command: rm -rf MOFA2.buildbin-libdir && mkdir MOFA2.buildbin-libdir && F:\biocbuild\bbs-3.17-bioc\R\bin\R.exe CMD INSTALL --build --library=MOFA2.buildbin-libdir MOFA2_1.10.0.tar.gz StartedAt: 2023-10-16 09:06:43 -0400 (Mon, 16 Oct 2023) EndedAt: 2023-10-16 09:07:25 -0400 (Mon, 16 Oct 2023) EllapsedTime: 42.2 seconds RetCode: 0 Status: OK PackageFile: MOFA2_1.10.0.zip PackageFileSize: 3.732 MiB