Package: MOFA2 Version: 1.10.0 Command: /home/biocbuild/bbs-3.17-bioc/R/bin/R CMD build --keep-empty-dirs --no-resave-data MOFA2 StartedAt: 2023-10-15 17:30:12 -0400 (Sun, 15 Oct 2023) EndedAt: 2023-10-15 17:31:55 -0400 (Sun, 15 Oct 2023) EllapsedTime: 102.5 seconds RetCode: 0 Status: OK PackageFile: MOFA2_1.10.0.tar.gz PackageFileSize: 4.068 MiB