Package: MOFA2 Version: 1.10.0 Command: /Library/Frameworks/R.framework/Resources/bin/R CMD build --keep-empty-dirs --no-resave-data MOFA2 StartedAt: 2023-10-15 19:35:54 -0400 (Sun, 15 Oct 2023) EndedAt: 2023-10-15 19:46:02 -0400 (Sun, 15 Oct 2023) EllapsedTime: 608.2 seconds RetCode: 0 Status: OK PackageFile: MOFA2_1.10.0.tar.gz PackageFileSize: 4.16 MiB