Package: MOFA2 Version: 1.10.0 Command: rm -rf MOFA2.buildbin-libdir && mkdir MOFA2.buildbin-libdir && /Users/biocbuild/BBS/utils/build-universal.sh MOFA2_1.10.0.tar.gz /Library/Frameworks/R.framework/Resources/bin/R MOFA2.buildbin-libdir StartedAt: 2023-10-16 09:45:30 -0400 (Mon, 16 Oct 2023) EndedAt: 2023-10-16 09:46:48 -0400 (Mon, 16 Oct 2023) EllapsedTime: 78.8 seconds RetCode: 0 Status: OK PackageFile: MOFA2_1.10.0.tgz PackageFileSize: 4.755 MiB