Package: MODA Version: 1.26.0 Command: F:\biocbuild\bbs-3.17-bioc\R\bin\R.exe CMD check --no-multiarch --install=check:MODA.install-out.txt --library=F:\biocbuild\bbs-3.17-bioc\R\library --no-vignettes --timings MODA_1.26.0.tar.gz StartedAt: 2023-10-16 04:16:17 -0400 (Mon, 16 Oct 2023) EndedAt: 2023-10-16 04:18:29 -0400 (Mon, 16 Oct 2023) EllapsedTime: 131.2 seconds RetCode: 0 Status: OK CheckDir: MODA.Rcheck Warnings: 0