Package: MODA Version: 1.26.0 Command: /home/biocbuild/bbs-3.17-bioc/R/bin/R CMD check --install=check:MODA.install-out.txt --library=/home/biocbuild/bbs-3.17-bioc/R/site-library --timings MODA_1.26.0.tar.gz StartedAt: 2023-10-15 22:57:19 -0400 (Sun, 15 Oct 2023) EndedAt: 2023-10-15 22:59:31 -0400 (Sun, 15 Oct 2023) EllapsedTime: 132.0 seconds RetCode: 0 Status: OK CheckDir: MODA.Rcheck Warnings: 0