Package: MMUPHin Version: 1.14.0 Command: F:\biocbuild\bbs-3.17-bioc\R\bin\R.exe CMD check --no-multiarch --install=check:MMUPHin.install-out.txt --library=F:\biocbuild\bbs-3.17-bioc\R\library --no-vignettes --timings MMUPHin_1.14.0.tar.gz StartedAt: 2023-10-16 04:14:27 -0400 (Mon, 16 Oct 2023) EndedAt: 2023-10-16 04:16:16 -0400 (Mon, 16 Oct 2023) EllapsedTime: 109.3 seconds RetCode: 0 Status: OK CheckDir: MMUPHin.Rcheck Warnings: 0