Package: MMUPHin Version: 1.14.0 Command: chmod a+r MMUPHin -R && F:\biocbuild\bbs-3.17-bioc\R\bin\R.exe CMD build --keep-empty-dirs --no-resave-data MMUPHin StartedAt: 2023-10-15 20:32:11 -0400 (Sun, 15 Oct 2023) EndedAt: 2023-10-15 20:33:23 -0400 (Sun, 15 Oct 2023) EllapsedTime: 71.2 seconds RetCode: 0 Status: OK PackageFile: MMUPHin_1.14.0.tar.gz PackageFileSize: 3.376 MiB