Package: MMUPHin Version: 1.14.0 Command: rm -rf MMUPHin.buildbin-libdir && mkdir MMUPHin.buildbin-libdir && F:\biocbuild\bbs-3.17-bioc\R\bin\R.exe CMD INSTALL --build --library=MMUPHin.buildbin-libdir MMUPHin_1.14.0.tar.gz StartedAt: 2023-10-16 09:06:28 -0400 (Mon, 16 Oct 2023) EndedAt: 2023-10-16 09:06:45 -0400 (Mon, 16 Oct 2023) EllapsedTime: 16.7 seconds RetCode: 0 Status: OK PackageFile: MMUPHin_1.14.0.zip PackageFileSize: 2.39 MiB