Package: MMUPHin Version: 1.14.0 Command: /home/biocbuild/bbs-3.17-bioc/R/bin/R CMD INSTALL MMUPHin StartedAt: 2023-10-15 15:35:14 -0400 (Sun, 15 Oct 2023) EndedAt: 2023-10-15 15:35:21 -0400 (Sun, 15 Oct 2023) EllapsedTime: 7.1 seconds RetCode: 0 Status: OK