Package: MMUPHin Version: 1.14.0 Command: /home/biocbuild/bbs-3.17-bioc/R/bin/R CMD build --keep-empty-dirs --no-resave-data MMUPHin StartedAt: 2023-10-15 17:29:14 -0400 (Sun, 15 Oct 2023) EndedAt: 2023-10-15 17:30:09 -0400 (Sun, 15 Oct 2023) EllapsedTime: 54.6 seconds RetCode: 0 Status: OK PackageFile: MMUPHin_1.14.0.tar.gz PackageFileSize: 3.519 MiB