Package: MMUPHin Version: 1.14.0 Command: /Library/Frameworks/R.framework/Resources/bin/R CMD check --install=check:MMUPHin.install-out.txt --library=/Library/Frameworks/R.framework/Resources/library --no-vignettes --timings MMUPHin_1.14.0.tar.gz StartedAt: 2023-10-16 04:05:46 -0400 (Mon, 16 Oct 2023) EndedAt: 2023-10-16 04:09:41 -0400 (Mon, 16 Oct 2023) EllapsedTime: 234.2 seconds RetCode: 0 Status: OK CheckDir: MMUPHin.Rcheck Warnings: 0