Package: MMDiff2 Version: 1.28.0 Command: /Library/Frameworks/R.framework/Resources/bin/R CMD check --install=check:MMDiff2.install-out.txt --library=/Library/Frameworks/R.framework/Resources/library --no-vignettes --timings MMDiff2_1.28.0.tar.gz StartedAt: 2023-10-16 04:05:34 -0400 (Mon, 16 Oct 2023) EndedAt: 2023-10-16 04:17:18 -0400 (Mon, 16 Oct 2023) EllapsedTime: 704.1 seconds RetCode: 0 Status: OK CheckDir: MMDiff2.Rcheck Warnings: 0