Package: MMDiff2 Version: 1.28.0 Command: /Library/Frameworks/R.framework/Resources/bin/R CMD build --keep-empty-dirs --no-resave-data MMDiff2 StartedAt: 2023-10-15 19:34:58 -0400 (Sun, 15 Oct 2023) EndedAt: 2023-10-15 19:38:52 -0400 (Sun, 15 Oct 2023) EllapsedTime: 234.0 seconds RetCode: 0 Status: OK PackageFile: MMDiff2_1.28.0.tar.gz PackageFileSize: 2.868 MiB