Package: MMDiff2 Version: 1.28.0 Command: rm -rf MMDiff2.buildbin-libdir && mkdir MMDiff2.buildbin-libdir && /Users/biocbuild/BBS/utils/build-universal.sh MMDiff2_1.28.0.tar.gz /Library/Frameworks/R.framework/Resources/bin/R MMDiff2.buildbin-libdir StartedAt: 2023-10-16 09:45:16 -0400 (Mon, 16 Oct 2023) EndedAt: 2023-10-16 09:47:21 -0400 (Mon, 16 Oct 2023) EllapsedTime: 125.0 seconds RetCode: 0 Status: OK PackageFile: MMDiff2_1.28.0.tgz PackageFileSize: 3.076 MiB