Package: MMAPPR2 Version: 1.14.0 Command: /home/biocbuild/bbs-3.17-bioc/R/bin/R CMD build --keep-empty-dirs --no-resave-data MMAPPR2 StartedAt: 2023-10-15 17:29:05 -0400 (Sun, 15 Oct 2023) EndedAt: 2023-10-15 17:30:47 -0400 (Sun, 15 Oct 2023) EllapsedTime: 102.2 seconds RetCode: 0 Status: OK PackageFile: MMAPPR2_1.14.0.tar.gz PackageFileSize: 404 KiB