Package: MMAPPR2 Version: 1.14.0 Command: /Library/Frameworks/R.framework/Resources/bin/R CMD INSTALL MMAPPR2 StartedAt: 2023-10-15 15:46:34 -0400 (Sun, 15 Oct 2023) EndedAt: 2023-10-15 15:46:42 -0400 (Sun, 15 Oct 2023) EllapsedTime: 8.1 seconds RetCode: 1 Status: ERROR