Package: MMAPPR2 Version: 1.14.0 Command: /Library/Frameworks/R.framework/Resources/bin/R CMD build --keep-empty-dirs --no-resave-data MMAPPR2 StartedAt: 2023-10-15 19:34:56 -0400 (Sun, 15 Oct 2023) EndedAt: 2023-10-15 19:34:58 -0400 (Sun, 15 Oct 2023) EllapsedTime: 2.2 seconds RetCode: 1 Status: ERROR PackageFile: None PackageFileSize: NA