Package: MLSeq Version: 2.18.0 Command: rm -rf MLSeq.buildbin-libdir && mkdir MLSeq.buildbin-libdir && F:\biocbuild\bbs-3.17-bioc\R\bin\R.exe CMD INSTALL --build --library=MLSeq.buildbin-libdir MLSeq_2.18.0.tar.gz StartedAt: 2023-10-16 09:06:25 -0400 (Mon, 16 Oct 2023) EndedAt: 2023-10-16 09:07:09 -0400 (Mon, 16 Oct 2023) EllapsedTime: 43.7 seconds RetCode: 0 Status: OK PackageFile: MLSeq_2.18.0.zip PackageFileSize: 1010 KiB