Package: MLSeq Version: 2.18.0 Command: /home/biocbuild/bbs-3.17-bioc/R/bin/R CMD check --install=check:MLSeq.install-out.txt --library=/home/biocbuild/bbs-3.17-bioc/R/site-library --timings MLSeq_2.18.0.tar.gz StartedAt: 2023-10-15 22:56:10 -0400 (Sun, 15 Oct 2023) EndedAt: 2023-10-15 23:00:35 -0400 (Sun, 15 Oct 2023) EllapsedTime: 264.6 seconds RetCode: 0 Status: OK CheckDir: MLSeq.Rcheck Warnings: 0