Package: MLSeq Version: 2.18.0 Command: /home/biocbuild/bbs-3.17-bioc/R/bin/R CMD build --keep-empty-dirs --no-resave-data MLSeq StartedAt: 2023-10-15 17:29:04 -0400 (Sun, 15 Oct 2023) EndedAt: 2023-10-15 17:30:51 -0400 (Sun, 15 Oct 2023) EllapsedTime: 106.8 seconds RetCode: 0 Status: OK PackageFile: MLSeq_2.18.0.tar.gz PackageFileSize: 628.5 KiB