Package: MLP Version: 1.48.0 Command: F:\biocbuild\bbs-3.17-bioc\R\bin\R.exe CMD INSTALL MLP StartedAt: 2023-10-15 16:07:55 -0400 (Sun, 15 Oct 2023) EndedAt: 2023-10-15 16:08:11 -0400 (Sun, 15 Oct 2023) EllapsedTime: 16.1 seconds RetCode: 0 Status: OK