Package: MLP Version: 1.48.0 Command: chmod a+r MLP -R && F:\biocbuild\bbs-3.17-bioc\R\bin\R.exe CMD build --keep-empty-dirs --no-resave-data MLP StartedAt: 2023-10-15 20:31:31 -0400 (Sun, 15 Oct 2023) EndedAt: 2023-10-15 20:36:01 -0400 (Sun, 15 Oct 2023) EllapsedTime: 270.0 seconds RetCode: 0 Status: OK PackageFile: MLP_1.48.0.tar.gz PackageFileSize: 4.142 MiB