Package: MLP Version: 1.48.0 Command: rm -rf MLP.buildbin-libdir && mkdir MLP.buildbin-libdir && F:\biocbuild\bbs-3.17-bioc\R\bin\R.exe CMD INSTALL --build --library=MLP.buildbin-libdir MLP_1.48.0.tar.gz StartedAt: 2023-10-16 09:06:24 -0400 (Mon, 16 Oct 2023) EndedAt: 2023-10-16 09:06:43 -0400 (Mon, 16 Oct 2023) EllapsedTime: 19.2 seconds RetCode: 0 Status: OK PackageFile: MLP_1.48.0.zip PackageFileSize: 4.196 MiB