Package: MLP Version: 1.48.0 Command: /home/biocbuild/bbs-3.17-bioc/R/bin/R CMD check --install=check:MLP.install-out.txt --library=/home/biocbuild/bbs-3.17-bioc/R/site-library --timings MLP_1.48.0.tar.gz StartedAt: 2023-10-15 22:56:04 -0400 (Sun, 15 Oct 2023) EndedAt: 2023-10-15 23:03:47 -0400 (Sun, 15 Oct 2023) EllapsedTime: 463.2 seconds RetCode: 0 Status: OK CheckDir: MLP.Rcheck Warnings: 0