Package: MLP Version: 1.48.0 Command: rm -rf MLP.buildbin-libdir && mkdir MLP.buildbin-libdir && /Users/biocbuild/BBS/utils/build-universal.sh MLP_1.48.0.tar.gz /Library/Frameworks/R.framework/Resources/bin/R MLP.buildbin-libdir StartedAt: 2023-10-16 09:45:14 -0400 (Mon, 16 Oct 2023) EndedAt: 2023-10-16 09:46:04 -0400 (Mon, 16 Oct 2023) EllapsedTime: 50.8 seconds RetCode: 0 Status: OK PackageFile: MLP_1.48.0.tgz PackageFileSize: 4.339 MiB