Package: MLInterfaces Version: 1.80.0 Command: F:\biocbuild\bbs-3.17-bioc\R\bin\R.exe CMD check --no-multiarch --install=check:MLInterfaces.install-out.txt --library=F:\biocbuild\bbs-3.17-bioc\R\library --no-vignettes --timings MLInterfaces_1.80.0.tar.gz StartedAt: 2023-10-16 04:12:54 -0400 (Mon, 16 Oct 2023) EndedAt: 2023-10-16 04:16:14 -0400 (Mon, 16 Oct 2023) EllapsedTime: 200.0 seconds RetCode: 0 Status: OK CheckDir: MLInterfaces.Rcheck Warnings: 0