Package: MLInterfaces Version: 1.80.0 Command: rm -rf MLInterfaces.buildbin-libdir && mkdir MLInterfaces.buildbin-libdir && F:\biocbuild\bbs-3.17-bioc\R\bin\R.exe CMD INSTALL --build --library=MLInterfaces.buildbin-libdir MLInterfaces_1.80.0.tar.gz StartedAt: 2023-10-16 09:06:22 -0400 (Mon, 16 Oct 2023) EndedAt: 2023-10-16 09:07:02 -0400 (Mon, 16 Oct 2023) EllapsedTime: 40.3 seconds RetCode: 0 Status: OK PackageFile: MLInterfaces_1.80.0.zip PackageFileSize: 1.61 MiB