Package: MLInterfaces Version: 1.80.0 Command: /home/biocbuild/bbs-3.17-bioc/R/bin/R CMD INSTALL MLInterfaces StartedAt: 2023-10-15 15:36:13 -0400 (Sun, 15 Oct 2023) EndedAt: 2023-10-15 15:36:41 -0400 (Sun, 15 Oct 2023) EllapsedTime: 28.4 seconds RetCode: 0 Status: OK