Package: MLInterfaces Version: 1.80.0 Command: /Library/Frameworks/R.framework/Resources/bin/R CMD check --install=check:MLInterfaces.install-out.txt --library=/Library/Frameworks/R.framework/Resources/library --no-vignettes --timings MLInterfaces_1.80.0.tar.gz StartedAt: 2023-10-16 04:05:04 -0400 (Mon, 16 Oct 2023) EndedAt: 2023-10-16 04:13:46 -0400 (Mon, 16 Oct 2023) EllapsedTime: 522.1 seconds RetCode: 0 Status: OK CheckDir: MLInterfaces.Rcheck Warnings: 0