Package: MLInterfaces Version: 1.80.0 Command: /Library/Frameworks/R.framework/Resources/bin/R CMD build --keep-empty-dirs --no-resave-data MLInterfaces StartedAt: 2023-10-15 19:34:44 -0400 (Sun, 15 Oct 2023) EndedAt: 2023-10-15 19:37:39 -0400 (Sun, 15 Oct 2023) EllapsedTime: 174.3 seconds RetCode: 0 Status: OK PackageFile: MLInterfaces_1.80.0.tar.gz PackageFileSize: 2.607 MiB