Package: MIMOSA Version: 1.38.0 Command: /home/biocbuild/bbs-3.17-bioc/R/bin/R CMD build --keep-empty-dirs --no-resave-data MIMOSA StartedAt: 2023-10-15 17:26:58 -0400 (Sun, 15 Oct 2023) EndedAt: 2023-10-15 17:28:48 -0400 (Sun, 15 Oct 2023) EllapsedTime: 109.2 seconds RetCode: 1 Status: ERROR PackageFile: None PackageFileSize: NA