Package: MGFM Version: 1.34.0 Command: chmod a+r MGFM -R && F:\biocbuild\bbs-3.17-bioc\R\bin\R.exe CMD build --keep-empty-dirs --no-resave-data MGFM StartedAt: 2023-10-15 20:25:03 -0400 (Sun, 15 Oct 2023) EndedAt: 2023-10-15 20:25:35 -0400 (Sun, 15 Oct 2023) EllapsedTime: 32.3 seconds RetCode: 0 Status: OK PackageFile: MGFM_1.34.0.tar.gz PackageFileSize: 3.301 MiB