Package: MGFM Version: 1.34.0 Command: rm -rf MGFM.buildbin-libdir && mkdir MGFM.buildbin-libdir && F:\biocbuild\bbs-3.17-bioc\R\bin\R.exe CMD INSTALL --build --library=MGFM.buildbin-libdir MGFM_1.34.0.tar.gz StartedAt: 2023-10-16 09:04:46 -0400 (Mon, 16 Oct 2023) EndedAt: 2023-10-16 09:05:05 -0400 (Mon, 16 Oct 2023) EllapsedTime: 19.1 seconds RetCode: 0 Status: OK PackageFile: MGFM_1.34.0.zip PackageFileSize: 2.958 MiB