Package: MGFM Version: 1.34.0 Command: /home/biocbuild/bbs-3.17-bioc/R/bin/R CMD build --keep-empty-dirs --no-resave-data MGFM StartedAt: 2023-10-15 17:25:46 -0400 (Sun, 15 Oct 2023) EndedAt: 2023-10-15 17:26:13 -0400 (Sun, 15 Oct 2023) EllapsedTime: 27.6 seconds RetCode: 0 Status: OK PackageFile: MGFM_1.34.0.tar.gz PackageFileSize: 3.297 MiB