Package: MGFM Version: 1.34.0 Command: /Library/Frameworks/R.framework/Resources/bin/R CMD build --keep-empty-dirs --no-resave-data MGFM StartedAt: 2023-10-15 19:28:27 -0400 (Sun, 15 Oct 2023) EndedAt: 2023-10-15 19:29:47 -0400 (Sun, 15 Oct 2023) EllapsedTime: 79.8 seconds RetCode: 0 Status: OK PackageFile: MGFM_1.34.0.tar.gz PackageFileSize: 3.491 MiB