Package: MEIGOR Version: 1.33.0 Command: F:\biocbuild\bbs-3.17-bioc\R\bin\R.exe CMD check --no-multiarch --install=check:MEIGOR.install-out.txt --library=F:\biocbuild\bbs-3.17-bioc\R\library --no-vignettes --timings MEIGOR_1.33.0.tar.gz StartedAt: 2023-03-15 03:14:22 -0400 (Wed, 15 Mar 2023) EndedAt: 2023-03-15 03:16:05 -0400 (Wed, 15 Mar 2023) EllapsedTime: 102.1 seconds RetCode: 0 Status: WARNINGS CheckDir: MEIGOR.Rcheck Warnings: 1